BEGIN:VCALENDAR
VERSION:2.0
PRODID:-//VIBE 93.3 - ECPv5.6.0//NONSGML v1.0//EN
CALSCALE:GREGORIAN
METHOD:PUBLISH
X-WR-CALNAME:VIBE 93.3
X-ORIGINAL-URL:https://www.vibe933.com
X-WR-CALDESC:Events for VIBE 93.3
BEGIN:VTIMEZONE
TZID:America/Chicago
BEGIN:DAYLIGHT
TZOFFSETFROM:-0600
TZOFFSETTO:-0500
TZNAME:CDT
DTSTART:20260308T080000
END:DAYLIGHT
BEGIN:STANDARD
TZOFFSETFROM:-0500
TZOFFSETTO:-0600
TZNAME:CST
DTSTART:20261101T070000
END:STANDARD
END:VTIMEZONE
BEGIN:VEVENT
DTSTART;TZID=America/Chicago:20260502T090000
DTEND;TZID=America/Chicago:20260502T140000
DTSTAMP:20260421T194754
CREATED:20260417T182935Z
LAST-MODIFIED:20260417T182935Z
UID:73383-1777712400-1777730400@www.vibe933.com
SUMMARY:Cinco De Mayo Festival
DESCRIPTION:Make your Cinco de Mayo meaningful this year! Join Mexic-Arte Museum on Saturday\, May 2nd\, from 9 a.m. to 2 p.m. at Republic Square. It’s a FREE family-friendly festival packed with educational art activities\, an artisan market\, and the smells of authentic Mexican cuisine. But the heart of the event is learning the true story of the 1862 Battle of Puebla through hands-on interactive booths. Live music\, local vendors\, and history for all ages. This event is in partnership with the City of Austin and Downtown Austin Alliance Foundation. RSVP for free on Eventbrite.
URL:https://www.vibe933.com/event/cinco-de-mayo-festival/
LOCATION:Republic Square Park\, 422 Guadalupe St\, Austin\, TX
CATEGORIES:Event
ATTACH;FMTTYPE=image/png:https://dehayf5mhw1h7.cloudfront.net/wp-content/uploads/sites/2436/2026/04/17132841/vibe-website.png
END:VEVENT
BEGIN:VEVENT
DTSTART;VALUE=DATE:20260609
DTEND;VALUE=DATE:20260611
DTSTAMP:20260421T194754
CREATED:20260217T173017Z
LAST-MODIFIED:20260217T173017Z
UID:72891-1780963200-1781135999@www.vibe933.com
SUMMARY:Blues on the Green 2026!
DESCRIPTION:SAVE THE DATE! Waterloo Media’s Blues on the Green\, Austin’s longest-running free concert series\, returns June 9 & 10 with two nights of free live music at Zilker Park! Interested in sponsorship opportunities? Contact us HERE! \n  \nWhat to know: \n📅 June 9th & 10th \n📍 Zilker Park \n👨‍👩‍👦 Family Friendly & All Ages \n💖 Always FREE \n  \nFollow along for updates as we count down to summer. Artist lineup and event details coming soon!
URL:https://www.vibe933.com/event/blues-on-the-green-2026/
LOCATION:TX
CATEGORIES:Event
ATTACH;FMTTYPE=image/png:https://dehayf5mhw1h7.cloudfront.net/wp-content/uploads/sites/2436/2026/02/17112942/botg26-save-the-date-web.png
END:VEVENT
END:VCALENDAR